Workbook
Name 水野_章二: 選手名!$I$3:$I$16

Sheet 説明
B1: 結果報告書シートの説明
B3: １．部、ブロックをプルダウンで選択してください。（ブロックのない場合は、空白に）
B10: ２．自チーム団体名をプルダウンで選択してください。
B17: ３．相手チーム団体名をプルダウンで選択してください。
B28: ４．自チーム選手氏名、相手チーム選手氏名をプルダウンで選択可能になります。

Sheet 結果報告書
C1: 1 | D1: 部リーグ | AW1: 3 | AX1: 3
AW2: 0 | AX2: 2
C3: 枚方テニスシニアリーグ2026 対戦結果報告書［７チームリーグ代表者用］ | AW3: -2 | AX3: 1
AG4: 自チーム団体名 | AW4: -5 | AX4: 0 | AY4: =INDEX(チーム名!$A:$A,MATCH($AH4,チーム名!$B:$B,0),1) -> #N/A
A6: 1 | B6: 相手チーム | D6: 第１試合 | N6: 第２試合 | X6: 第３試合 | AH6: 結果の集計 ※１
D7: 自チーム | E7: セット | F7: ゲーム | L7: セット | M7: 相手チーム | N7: 自チーム | O7: セット | P7: ゲーム | V7: セット | W7: 相手チーム | X7: 自チーム | Y7: セット | Z7: ゲーム | AF7: セット | AG7: 相手チーム | AH7: 勝率 | AJ7: 取得 | AM7: 取得 | AP7: 取得 | AS7: 試合実施 ポイント | AT7: 勝利 ポイント | AU7: 合計 ポイント
B8: 団 体 名 | D8: 選手氏名 | I8: TB | M8: 選手氏名 | N8: 選手氏名 | S8: TB | W8: 選手氏名 | X8: 選手氏名 | AC8: TB | AG8: 選手氏名 | AH8: 勝 | AI8: 敗 | AJ8: 試合率 | AM8: セット率 | AP8: ゲーム率
B9: 第１戦 | E9: =IF(OR(AND(F9=4,(F9-H9)>=2),AND(F9=5,F9-H9>=1,F9-H9<=2)),1,0) +IF(OR(AND(F10=4,(F10-H10)>=2),AND(F10=5,F10-H10>=1,F10-H10<=2)),1,0) +IF((F11-H11)>0,1,0) -> 0 | G9: － | I9: ( | K9: ) | L9: =IF(OR(AND(H9=4,(H9-F9)>=2),AND(H9=5,H9-F9>=1,H9-F9<=2)),1,0)+IF(OR(AND(H10=4,(H10-F10)>=2),AND(H10=5,H10-F10>=1,H10-F10<=2)),1,0)+IF((H11-F11)>0,1,0) -> 0 | O9: =IF(OR(AND(P9=4,(P9-R9)>=2),AND(P9=5,P9-R9>=1,P9-R9<=2)),1,0) +IF(OR(AND(P10=4,(P10-R10)>=2),AND(P10=5,P10-R10>=1,P10-R10<=2)),1,0) +IF((P11-R11)>0,1,0) -> 0 | Q9: － | S9: ( | U9: ) | V9: =IF(OR(AND(R9=4,(R9-P9)>=2),AND(R9=5,R9-P9>=1,R9-P9<=2)),1,0)+IF(OR(AND(R10=4,(R10-P10)>=2),AND(R10=5,R10-P10>=1,R10-P10<=2)),1,0)+IF((R11-P11)>0,1,0) -> 0 | Y9: =IF(OR(AND(Z9=4,(Z9-AB9)>=2),AND(Z9=5,Z9-AB9>=1,Z9-AB9<=2)),1,0) +IF(OR(AND(Z10=4,(Z10-AB10)>=2),AND(Z10=5,Z10-AB10>=1,Z10-AB10<=2)),1,0) +IF((Z11-AB11)>0,1,0) -> 0 | AA9: － | AC9: ( | AE9: ) | AF9: =IF(OR(AND(AB9=4,(AB9-Z9)>=2),AND(AB9=5,AB9-Z9>=1,AB9-Z9<=2)),1,0)+IF(OR(AND(AB10=4,(AB10-Z10)>=2),AND(AB10=5,AB10-Z10>=1,AB10-Z10<=2)),1,0)+IF((AB11-Z11)>0,1,0) -> 0 | AH9: =IF(AJ9>=2,1,0) -> 0 | AI9: =IF(OR(AND(AL9=3,AJ9<=1),AND(AL9=2,AJ9=0)),1,0) -> 0 | AJ9: =IF(E9=2,1,0)+IF(O9=2,1,0)+IF(Y9=2,1,0) -> 0 | AK9: / | AL9: =IF(OR(E9=2, L9=2), 1,0)+IF(OR(O9=2, V9=2), 1,0)+IF(OR(Y9=2, AF9=2), 1,0) -> 0 | AM9: =SUM(E9,O9,Y9) -> 0 | AN9: / | AO9: =SUM(E9,L9,O9,V9,Y9,AF9) -> 0 | AP9: =SUM(F9:F11,P9:P11,Z9:Z11) -> 0 | AQ9: / | AR9: =SUM(F9:H11,P9:R11,Z9:AB11) -> 0 | AS9: =IF(AL9=3,3,IF(AL9=2,0,IF(AL9=1,-2,-5))) -> -5 | AT9: =IF(AJ9>=2,2,0) -> 0 | AU9: =SUM(AS9:AT12) -> -5 | AY9: =INDEX(チーム名!$A:$A,MATCH($C9,チーム名!$B:$B,0),1) -> #N/A
G10: － | I10: ( | K10: ) | Q10: － | S10: ( | U10: ) | AA10: － | AC10: ( | AE10: )
G11: － | I11: ( | K11: ) | Q11: － | S11: ( | U11: ) | AA11: － | AC11: ( | AE11: )
D12: 試合日 | I12: 会場名 | N12: 試合日 | S12: 会場名 | X12: 試合日 | AC12: 会場名
B13: 第２戦 | E13: =IF(OR(AND(F13=4,(F13-H13)>=2),AND(F13=5,F13-H13>=1,F13-H13<=2)),1,0) +IF(OR(AND(F14=4,(F14-H14)>=2),AND(F14=5,F14-H14>=1,F14-H14<=2)),1,0) +IF((F15-H15)>0,1,0) -> 0 | G13: － | I13: ( | K13: ) | L13: =IF(OR(AND(H13=4,(H13-F13)>=2),AND(H13=5,H13-F13>=1,H13-F13<=2)),1,0)+IF(OR(AND(H14=4,(H14-F14)>=2),AND(H14=5,H14-F14>=1,H14-F14<=2)),1,0)+IF((H15-F15)>0,1,0) -> 0 | O13: =IF(OR(AND(P13=4,(P13-R13)>=2),AND(P13=5,P13-R13>=1,P13-R13<=2)),1,0) +IF(OR(AND(P14=4,(P14-R14)>=2),AND(P14=5,P14-R14>=1,P14-R14<=2)),1,0) +IF((P15-R15)>0,1,0) -> 0 | Q13: － | S13: ( | U13: ) | V13: =IF(OR(AND(R13=4,(R13-P13)>=2),AND(R13=5,R13-P13>=1,R13-P13<=2)),1,0)+IF(OR(AND(R14=4,(R14-P14)>=2),AND(R14=5,R14-P14>=1,R14-P14<=2)),1,0)+IF((R15-P15)>0,1,0) -> 0 | Y13: =IF(OR(AND(Z13=4,(Z13-AB13)>=2),AND(Z13=5,Z13-AB13>=1,Z13-AB13<=2)),1,0) +IF(OR(AND(Z14=4,(Z14-AB14)>=2),AND(Z14=5,Z14-AB14>=1,Z14-AB14<=2)),1,0) +IF((Z15-AB15)>0,1,0) -> 0 | AA13: － | AC13: ( | AE13: ) | AF13: =IF(OR(AND(AB13=4,(AB13-Z13)>=2),AND(AB13=5,AB13-Z13>=1,AB13-Z13<=2)),1,0)+IF(OR(AND(AB14=4,(AB14-Z14)>=2),AND(AB14=5,AB14-Z14>=1,AB14-Z14<=2)),1,0)+IF((AB15-Z15)>0,1,0) -> 0 | AH13: =IF(AJ13>=2,1,0) -> 0 | AI13: =IF(OR(AND(AL13=3,AJ13<=1),AND(AL13=2,AJ13=0)),1,0) -> 0 | AJ13: =IF(E13=2,1,0)+IF(O13=2,1,0)+IF(Y13=2,1,0) -> 0 | AK13: / | AL13: =IF(OR(E13=2, L13=2), 1,0)+IF(OR(O13=2, V13=2), 1,0)+IF(OR(Y13=2, AF13=2), 1,0) -> 0 | AM13: =SUM(E13,O13,Y13) -> 0 | AN13: / | AO13: =SUM(E13,L13,O13,V13,Y13,AF13) -> 0 | AP13: =SUM(F13:F15,P13:P15,Z13:Z15) -> 0 | AQ13: / | AR13: =SUM(F13:H15,P13:R15,Z13:AB15) -> 0 | AS13: =IF(AL13=3,3,IF(AL13=2,0,IF(AL13=1,-2,-5))) -> -5 | AT13: =IF(AJ13>=2,2,0) -> 0 | AU13: =SUM(AS13:AT16) -> -5 | AY13: =INDEX(チーム名!$A:$A,MATCH($C13,チーム名!$B:$B,0),1) -> #N/A
G14: － | I14: ( | K14: ) | Q14: － | S14: ( | U14: ) | AA14: － | AC14: ( | AE14: )
G15: － | I15: ( | K15: ) | Q15: － | S15: ( | U15: ) | AA15: － | AC15: ( | AE15: )
D16: 試合日 | I16: 会場名 | N16: 試合日 | S16: 会場名 | X16: 試合日 | AC16: 会場名
B17: 第３戦 | E17: =IF(OR(AND(F17=4,(F17-H17)>=2),AND(F17=5,F17-H17>=1,F17-H17<=2)),1,0) +IF(OR(AND(F18=4,(F18-H18)>=2),AND(F18=5,F18-H18>=1,F18-H18<=2)),1,0) +IF((F19-H19)>0,1,0) -> 0 | G17: － | I17: ( | K17: ) | L17: =IF(OR(AND(H17=4,(H17-F17)>=2),AND(H17=5,H17-F17>=1,H17-F17<=2)),1,0)+IF(OR(AND(H18=4,(H18-F18)>=2),AND(H18=5,H18-F18>=1,H18-F18<=2)),1,0)+IF((H19-F19)>0,1,0) -> 0 | O17: =IF(OR(AND(P17=4,(P17-R17)>=2),AND(P17=5,P17-R17>=1,P17-R17<=2)),1,0) +IF(OR(AND(P18=4,(P18-R18)>=2),AND(P18=5,P18-R18>=1,P18-R18<=2)),1,0) +IF((P19-R19)>0,1,0) -> 0 | Q17: － | S17: ( | U17: ) | V17: =IF(OR(AND(R17=4,(R17-P17)>=2),AND(R17=5,R17-P17>=1,R17-P17<=2)),1,0)+IF(OR(AND(R18=4,(R18-P18)>=2),AND(R18=5,R18-P18>=1,R18-P18<=2)),1,0)+IF((R19-P19)>0,1,0) -> 0 | Y17: =IF(OR(AND(Z17=4,(Z17-AB17)>=2),AND(Z17=5,Z17-AB17>=1,Z17-AB17<=2)),1,0) +IF(OR(AND(Z18=4,(Z18-AB18)>=2),AND(Z18=5,Z18-AB18>=1,Z18-AB18<=2)),1,0) +IF((Z19-AB19)>0,1,0) -> 0 | AA17: － | AC17: ( | AE17: ) | AF17: =IF(OR(AND(AB17=4,(AB17-Z17)>=2),AND(AB17=5,AB17-Z17>=1,AB17-Z17<=2)),1,0)+IF(OR(AND(AB18=4,(AB18-Z18)>=2),AND(AB18=5,AB18-Z18>=1,AB18-Z18<=2)),1,0)+IF((AB19-Z19)>0,1,0) -> 0 | AH17: =IF(AJ17>=2,1,0) -> 0 | AI17: =IF(OR(AND(AL17=3,AJ17<=1),AND(AL17=2,AJ17=0)),1,0) -> 0 | AJ17: =IF(E17=2,1,0)+IF(O17=2,1,0)+IF(Y17=2,1,0) -> 0 | AK17: / | AL17: =IF(OR(E17=2, L17=2), 1,0)+IF(OR(O17=2, V17=2), 1,0)+IF(OR(Y17=2, AF17=2), 1,0) -> 0 | AM17: =SUM(E17,O17,Y17) -> 0 | AN17: / | AO17: =SUM(E17,L17,O17,V17,Y17,AF17) -> 0 | AP17: =SUM(F17:F19,P17:P19,Z17:Z19) -> 0 | AQ17: / | AR17: =SUM(F17:H19,P17:R19,Z17:AB19) -> 0 | AS17: =IF(AL17=3,3,IF(AL17=2,0,IF(AL17=1,-2,-5))) -> -5 | AT17: =IF(AJ17>=2,2,0) -> 0 | AU17: =SUM(AS17:AT20) -> -5 | AY17: =INDEX(チーム名!$A:$A,MATCH($C17,チーム名!$B:$B,0),1) -> #N/A
G18: － | I18: ( | K18: ) | Q18: － | S18: ( | U18: ) | AA18: － | AC18: ( | AE18: )
G19: － | I19: ( | K19: ) | Q19: － | S19: ( | U19: ) | AA19: － | AC19: ( | AE19: )
D20: 試合日 | I20: 会場名 | N20: 試合日 | S20: 会場名 | X20: 試合日 | AC20: 会場名
B21: 第４戦 | E21: =IF(OR(AND(F21=4,(F21-H21)>=2),AND(F21=5,F21-H21>=1,F21-H21<=2)),1,0) +IF(OR(AND(F22=4,(F22-H22)>=2),AND(F22=5,F22-H22>=1,F22-H22<=2)),1,0) +IF((F23-H23)>0,1,0) -> 0 | G21: － | I21: ( | K21: ) | L21: =IF(OR(AND(H21=4,(H21-F21)>=2),AND(H21=5,H21-F21>=1,H21-F21<=2)),1,0)+IF(OR(AND(H22=4,(H22-F22)>=2),AND(H22=5,H22-F22>=1,H22-F22<=2)),1,0)+IF((H23-F23)>0,1,0) -> 0 | O21: =IF(OR(AND(P21=4,(P21-R21)>=2),AND(P21=5,P21-R21>=1,P21-R21<=2)),1,0) +IF(OR(AND(P22=4,(P22-R22)>=2),AND(P22=5,P22-R22>=1,P22-R22<=2)),1,0) +IF((P23-R23)>0,1,0) -> 0 | Q21: － | S21: ( | U21: ) | V21: =IF(OR(AND(R21=4,(R21-P21)>=2),AND(R21=5,R21-P21>=1,R21-P21<=2)),1,0)+IF(OR(AND(R22=4,(R22-P22)>=2),AND(R22=5,R22-P22>=1,R22-P22<=2)),1,0)+IF((R23-P23)>0,1,0) -> 0 | Y21: =IF(OR(AND(Z21=4,(Z21-AB21)>=2),AND(Z21=5,Z21-AB21>=1,Z21-AB21<=2)),1,0) +IF(OR(AND(Z22=4,(Z22-AB22)>=2),AND(Z22=5,Z22-AB22>=1,Z22-AB22<=2)),1,0) +IF((Z23-AB23)>0,1,0) -> 0 | AA21: － | AC21: ( | AE21: ) | AF21: =IF(OR(AND(AB21=4,(AB21-Z21)>=2),AND(AB21=5,AB21-Z21>=1,AB21-Z21<=2)),1,0)+IF(OR(AND(AB22=4,(AB22-Z22)>=2),AND(AB22=5,AB22-Z22>=1,AB22-Z22<=2)),1,0)+IF((AB23-Z23)>0,1,0) -> 0 | AH21: =IF(AJ21>=2,1,0) -> 0 | AI21: =IF(OR(AND(AL21=3,AJ21<=1),AND(AL21=2,AJ21=0)),1,0) -> 0 | AJ21: =IF(E21=2,1,0)+IF(O21=2,1,0)+IF(Y21=2,1,0) -> 0 | AK21: / | AL21: =IF(OR(E21=2, L21=2), 1,0)+IF(OR(O21=2, V21=2), 1,0)+IF(OR(Y21=2, AF21=2), 1,0) -> 0 | AM21: =SUM(E21,O21,Y21) -> 0 | AN21: / | AO21: =SUM(E21,L21,O21,V21,Y21,AF21) -> 0 | AP21: =SUM(F21:F23,P21:P23,Z21:Z23) -> 0 | AQ21: / | AR21: =SUM(F21:H23,P21:R23,Z21:AB23) -> 0 | AS21: =IF(AL21=3,3,IF(AL21=2,0,IF(AL21=1,-2,-5))) -> -5 | AT21: =IF(AJ21>=2,2,0) -> 0 | AU21: =SUM(AS21:AT24) -> -5 | AY21: =INDEX(チーム名!$A:$A,MATCH($C21,チーム名!$B:$B,0),1) -> #N/A
G22: － | I22: ( | K22: ) | Q22: － | S22: ( | U22: ) | AA22: － | AC22: ( | AE22: )
G23: － | I23: ( | K23: ) | Q23: － | S23: ( | U23: ) | AA23: － | AC23: ( | AE23: )
D24: 試合日 | I24: 会場名 | N24: 試合日 | S24: 会場名 | X24: 試合日 | AC24: 会場名
B25: 第5戦 | E25: =IF(OR(AND(F25=4,(F25-H25)>=2),AND(F25=5,F25-H25>=1,F25-H25<=2)),1,0) +IF(OR(AND(F26=4,(F26-H26)>=2),AND(F26=5,F26-H26>=1,F26-H26<=2)),1,0) +IF((F27-H27)>0,1,0) -> 0 | G25: － | I25: ( | K25: ) | L25: =IF(OR(AND(H25=4,(H25-F25)>=2),AND(H25=5,H25-F25>=1,H25-F25<=2)),1,0)+IF(OR(AND(H26=4,(H26-F26)>=2),AND(H26=5,H26-F26>=1,H26-F26<=2)),1,0)+IF((H27-F27)>0,1,0) -> 0 | O25: =IF(OR(AND(P25=4,(P25-R25)>=2),AND(P25=5,P25-R25>=1,P25-R25<=2)),1,0) +IF(OR(AND(P26=4,(P26-R26)>=2),AND(P26=5,P26-R26>=1,P26-R26<=2)),1,0) +IF((P27-R27)>0,1,0) -> 0 | Q25: － | S25: ( | U25: ) | V25: =IF(OR(AND(R25=4,(R25-P25)>=2),AND(R25=5,R25-P25>=1,R25-P25<=2)),1,0)+IF(OR(AND(R26=4,(R26-P26)>=2),AND(R26=5,R26-P26>=1,R26-P26<=2)),1,0)+IF((R27-P27)>0,1,0) -> 0 | Y25: =IF(OR(AND(Z25=4,(Z25-AB25)>=2),AND(Z25=5,Z25-AB25>=1,Z25-AB25<=2)),1,0) +IF(OR(AND(Z26=4,(Z26-AB26)>=2),AND(Z26=5,Z26-AB26>=1,Z26-AB26<=2)),1,0) +IF((Z27-AB27)>0,1,0) -> 0 | AA25: － | AC25: ( | AE25: ) | AF25: =IF(OR(AND(AB25=4,(AB25-Z25)>=2),AND(AB25=5,AB25-Z25>=1,AB25-Z25<=2)),1,0)+IF(OR(AND(AB26=4,(AB26-Z26)>=2),AND(AB26=5,AB26-Z26>=1,AB26-Z26<=2)),1,0)+IF((AB27-Z27)>0,1,0) -> 0 | AH25: =IF(AJ25>=2,1,0) -> 0 | AI25: =IF(OR(AND(AL25=3,AJ25<=1),AND(AL25=2,AJ25=0)),1,0) -> 0 | AJ25: =IF(E25=2,1,0)+IF(O25=2,1,0)+IF(Y25=2,1,0) -> 0 | AK25: / | AL25: =IF(OR(E25=2, L25=2), 1,0)+IF(OR(O25=2, V25=2), 1,0)+IF(OR(Y25=2, AF25=2), 1,0) -> 0 | AM25: =SUM(E25,O25,Y25) -> 0 | AN25: / | AO25: =SUM(E25,L25,O25,V25,Y25,AF25) -> 0 | AP25: =SUM(F25:F27,P25:P27,Z25:Z27) -> 0 | AQ25: / | AR25: =SUM(F25:H27,P25:R27,Z25:AB27) -> 0 | AS25: =IF(AL25=3,3,IF(AL25=2,0,IF(AL25=1,-2,-5))) -> -5 | AT25: =IF(AJ25>=2,2,0) -> 0 | AU25: =SUM(AS25:AT28) -> -5 | AY25: =INDEX(チーム名!$A:$A,MATCH($C25,チーム名!$B:$B,0),1) -> #N/A
G26: － | I26: ( | K26: ) | Q26: － | S26: ( | U26: ) | AA26: － | AC26: ( | AE26: )
G27: － | I27: ( | K27: ) | Q27: － | S27: ( | U27: ) | AA27: － | AC27: ( | AE27: )
D28: 試合日 | I28: 会場名 | N28: 試合日 | S28: 会場名 | X28: 試合日 | AC28: 会場名
B29: 第6戦 | E29: =IF(OR(AND(F29=4,(F29-H29)>=2),AND(F29=5,F29-H29>=1,F29-H29<=2)),1,0) +IF(OR(AND(F30=4,(F30-H30)>=2),AND(F30=5,F30-H30>=1,F30-H30<=2)),1,0) +IF((F31-H31)>0,1,0) -> 0 | G29: － | I29: ( | K29: ) | L29: =IF(OR(AND(H29=4,(H29-F29)>=2),AND(H29=5,H29-F29>=1,H29-F29<=2)),1,0)+IF(OR(AND(H30=4,(H30-F30)>=2),AND(H30=5,H30-F30>=1,H30-F30<=2)),1,0)+IF((H31-F31)>0,1,0) -> 0 | O29: =IF(OR(AND(P29=4,(P29-R29)>=2),AND(P29=5,P29-R29>=1,P29-R29<=2)),1,0) +IF(OR(AND(P30=4,(P30-R30)>=2),AND(P30=5,P30-R30>=1,P30-R30<=2)),1,0) +IF((P31-R31)>0,1,0) -> 0 | Q29: － | S29: ( | U29: ) | V29: =IF(OR(AND(R29=4,(R29-P29)>=2),AND(R29=5,R29-P29>=1,R29-P29<=2)),1,0)+IF(OR(AND(R30=4,(R30-P30)>=2),AND(R30=5,R30-P30>=1,R30-P30<=2)),1,0)+IF((R31-P31)>0,1,0) -> 0 | Y29: =IF(OR(AND(Z29=4,(Z29-AB29)>=2),AND(Z29=5,Z29-AB29>=1,Z29-AB29<=2)),1,0) +IF(OR(AND(Z30=4,(Z30-AB30)>=2),AND(Z30=5,Z30-AB30>=1,Z30-AB30<=2)),1,0) +IF((Z31-AB31)>0,1,0) -> 0 | AA29: － | AC29: ( | AE29: ) | AF29: =IF(OR(AND(AB29=4,(AB29-Z29)>=2),AND(AB29=5,AB29-Z29>=1,AB29-Z29<=2)),1,0)+IF(OR(AND(AB30=4,(AB30-Z30)>=2),AND(AB30=5,AB30-Z30>=1,AB30-Z30<=2)),1,0)+IF((AB31-Z31)>0,1,0) -> 0 | AH29: =IF(AJ29>=2,1,0) -> 0 | AI29: =IF(OR(AND(AL29=3,AJ29<=1),AND(AL29=2,AJ29=0)),1,0) -> 0 | AJ29: =IF(E29=2,1,0)+IF(O29=2,1,0)+IF(Y29=2,1,0) -> 0 | AK29: / | AL29: =IF(OR(E29=2, L29=2), 1,0)+IF(OR(O29=2, V29=2), 1,0)+IF(OR(Y29=2, AF29=2), 1,0) -> 0 | AM29: =SUM(E29,O29,Y29) -> 0 | AN29: / | AO29: =SUM(E29,L29,O29,V29,Y29,AF29) -> 0 | AP29: =SUM(F29:F31,P29:P31,Z29:Z31) -> 0 | AQ29: / | AR29: =SUM(F29:H31,P29:R31,Z29:AB31) -> 0 | AS29: =IF(AL29=3,3,IF(AL29=2,0,IF(AL29=1,-2,-5))) -> -5 | AT29: =IF(AJ29>=2,2,0) -> 0 | AU29: =SUM(AS29:AT32) -> -5 | AY29: =INDEX(チーム名!$A:$A,MATCH($C29,チーム名!$B:$B,0),1) -> #N/A
G30: － | I30: ( | K30: ) | Q30: － | S30: ( | U30: ) | AA30: － | AC30: ( | AE30: )
G31: － | I31: ( | K31: ) | Q31: － | S31: ( | U31: ) | AA31: － | AC31: ( | AE31: )
D32: 試合日 | I32: 会場名 | N32: 試合日 | S32: 会場名 | X32: 試合日 | AC32: 会場名
D33: 第○戦第○試合 | E33: 途中棄権（RET）のカウント | N33: 第○戦第○試合 | O33: 試合棄権（不戦敗）の理由 | X33: 第○戦第○試合 | Y33: 失格負け、未消化の理由 | AH33: =SUM(AH9:AH32) -> 0 | AI33: =SUM(AI9:AI32) -> 0 | AJ33: =SUM(AJ9:AJ32) -> 0 | AK33: / | AL33: =SUM(AL9:AL32) -> 0 | AM33: =SUM(AM9:AM32) -> 0 | AN33: / | AO33: =SUM(AO9:AO32) -> 0 | AP33: =SUM(AP9:AP32) -> 0 | AQ33: / | AR33: =SUM(AR9:AR32) -> 0 | AS33: =SUM(AS9:AS32) -> -30 | AT33: =SUM(AT9:AT32) -> 0 | AU33: =SUM(AU9:AU32) -> -30
B34: 集計及び | D34: 第４戦第３試合 | E34: （例）31,RET | N34: 第２戦第１試合 | O34: （例）自チーム選手が急に来れなくなった | X34: 第１戦第３試合 | Y34: （例）日程調整が合わず未消化
B37: 詳細報告
B38: ※２ | AJ38: =IF(AL33=0,0,AJ33/AL33*100) -> 0 | AM38: =IF(AO33=0,0,AM33/AO33*100) -> 0 | AP38: =IF(AR33=0,0,AP33/AR33*100) -> 0
B40: 【記入例】 | C40: 枚方市テニス協会 | D40: 藤本 誠司 | E40: =IF((F40-H40)>0,1,0)+IF((F41-H41)>0,1,0)+IF((F42-H42)>0,1,0) -> 2 | F40: 4 | G40: － | H40: 3 | I40: ( | K40: ) | L40: =IF((H40-F40)>0,1,)+IF((H41-F41)>0,1,)+IF((H42-F42)>0,1,) -> 0 | M40: 新家 周三 | N40: 宮原 茂利 | O40: =IF((P40-R40)>0,1,0)+IF((P41-R41)>0,1,0)+IF((P42-R42)>0,1,0) -> 2 | P40: 4 | Q40: － | R40: 5 | S40: ( | T40: 4 | U40: ) | V40: =IF((R40-P40)>0,1,)+IF((R41-P41)>0,1,)+IF((R42-P42)>0,1,) -> 1 | W40: 海家 秀夫 | X40: 森村 亜由 | Y40: =IF((Z40-AB40)>0,1,0)+IF((Z41-AB41)>0,1,0)+IF((Z42-AB42)>0,1,0) -> 1 | Z40: 5 | AA40: － | AB40: 4 | AC40: ( | AD40: 5 | AE40: ) | AF40: =IF((AB40-Z40)>0,1,)+IF((AB41-Z41)>0,1,)+IF((AB42-Z42)>0,1,) -> 2 | AG40: 田中 正栄 | AH40: =IF(AJ40>=2,1,0) -> 1 | AI40: =IF(OR(AND(AL40=3,AJ40<=1),AND(AL40=2,AJ40=0)),1,0) -> 0 | AJ40: =IF(E40>L40,1,0)+IF(O40>V40,1,0)+IF(Y40>AF40,1,0) -> 2 | AK40: / | AL40: =IF(OR(E40=2, L40=2), 1,0)+IF(OR(O40=2, V40=2), 1,0)+IF(OR(Y40=2, AF40=2), 1,0) -> 3 | AM40: =SUM(E40,O40,Y40) -> 5 | AN40: / | AO40: =SUM(E40,L40,O40,V40,Y40,AF40) -> 8 | AP40: =SUM(F40:F42,P40:P42,Z40:Z42) -> 27 | AQ40: / | AR40: =SUM(F40:H42,P40:R42,Z40:AB42) -> 51 | AS40: =IF(AL40=3,3,IF(AL40=2,0,IF(AL40=1,-2,-5))) -> 3 | AT40: =IF(AJ40>=2,2,0) -> 2 | AU40: =SUM(AS40:AT43) -> 5
D41: 梶原 博樹 | F41: 4 | G41: － | H41: 2 | I41: ( | K41: ) | M41: 杉井 富美枝 | N41: 成瀬 智仁 | P41: 5 | Q41: － | R41: 4 | S41: ( | T41: 5 | U41: ) | W41: 北村 美佐緒 | X41: 忠田 淑子 | Z41: 4 | AA41: － | AB41: 5 | AC41: ( | AD41: 10 | AE41: ) | AG41: 佐藤 博子
C42: 枚方クラブ | G42: － | I42: ( | K42: ) | P42: 1 | Q42: － | R42: 0 | S42: ( | T42: 8 | U42: ) | Z42: 0 | AA42: － | AB42: 1 | AC42: ( | AD42: 6 | AE42: )
D43: 試合日 | E43: 46281 | I43: 会場名 | L43: 伊加賀スポーツセンター | N43: 試合日 | O43: 46302 | S43: 会場名 | V43: パナソニックスポーツセンター | X43: 試合日 | Y43: 46316 | AC43: 会場名 | AF43: 王仁公園コート
B44: ※１ 試合実施ポイント（全３試合実施：３点、２試合のみ実施：０点、１試合のみ実施：－２点、０試合：－５点）、勝利ポイント（勝利チームに２点）
...

Sheet 別紙（詳細報告）
A1: 別紙
A2: =結果報告書!C1 -> 1 | B2: =結果報告書!D1 -> 部リーグ | C2: =結果報告書!E1 -> 0 | D2: =結果報告書!F1 -> 0
A4: =結果報告書!C3 -> 枚方テニスシニアリーグ2026 対戦結果報告書［７チームリーグ代表者用］
A5: ＜詳細報告書＞
E7: ="自チーム団体名 "&結果報告書!AH4 -> 自チーム団体名
A9: 対戦番号 | B9: 試合番号 | C9: 結果 | E9: 理由
A10: （第○戦） | B10: （第○試合）

Sheet チーム名
A1: =B$1&"No" -> 1部No | B1: 1部
A2: =B$1&"1番" -> 1部1番 | B2: 今日がいちばん…!
A3: =B$1&"2番" -> 1部2番 | B3: UP-TO GG
A4: =B$1&"3番" -> 1部3番 | B4: ジャパンエース
A5: =B$1&"4番" -> 1部4番 | B5: コマツKTSM-C
A6: =B$1&"5番" -> 1部5番 | B6: 時にはエース
A7: =B$1&"6番" -> 1部6番 | B7: エースを狙え!
A8: =B$1&"7番" -> 1部7番 | B8: チームゆきんこ
A9: =B$9&"No" -> 2部No | B9: 2部
A10: =B$9&"1番" -> 2部1番
A11: =B$9&"2番" -> 2部2番
A12: =B$9&"3番" -> 2部3番
A13: =B$9&"4番" -> 2部4番
A14: =B$9&"5番" -> 2部5番
A15: =B$9&"6番" -> 2部6番
A16: =B$16&"No" -> 3部No | B16: 3部
A17: =B$16&"1番" -> 3部1番
A18: =B$16&"2番" -> 3部2番
A19: =B$16&"3番" -> 3部3番
A20: =B$16&"4番" -> 3部4番
A21: =B$16&"5番" -> 3部5番
A22: =B$16&"6番" -> 3部6番
A23: =B$23&"No" -> 4部ANo | B23: 4部A
A24: =B$23&"1番" -> 4部A1番
A25: =B$23&"2番" -> 4部A2番
A26: =B$23&"3番" -> 4部A3番
A27: =B$23&"4番" -> 4部A4番
A28: =B$23&"5番" -> 4部A5番
A29: =B$23&"6番" -> 4部A6番
A30: =B$30&"No" -> 4部BNo | B30: 4部B
A31: =B$30&"1番" -> 4部B1番
A32: =B$30&"2番" -> 4部B2番
A33: =B$30&"3番" -> 4部B3番
A34: =B$30&"4番" -> 4部B4番
A35: =B$30&"5番" -> 4部B5番
A36: =B$30&"6番" -> 4部B6番
A37: =B$37&"No" -> 5部ANo | B37: 5部A
A38: =B$37&"1番" -> 5部A1番
A39: =B$37&"2番" -> 5部A2番
A40: =B$37&"3番" -> 5部A3番
...

Sheet 選手名
A1: 選手No | C1: 1部1番 | D1: 1部2番 | E1: 1部3番 | F1: 1部4番 | G1: 1部5番 | H1: 1部6番 | I1: 1部7番 | K1: 2部1番 | L1: 2部2番 | M1: 2部3番 | N1: 2部4番 | O1: 2部5番 | P1: 2部6番 | R1: 3部1番 | S1: 3部2番 | T1: 3部3番 | U1: 3部4番 | V1: 3部5番 | W1: 3部6番 | Y1: 4部A1番 | Z1: 4部A2番 | AA1: 4部A3番 | AB1: 4部A4番 | AC1: 4部A5番 | AD1: 4部A6番 | AF1: 4部B1番 | AG1: 4部B2番 | AH1: 4部B3番 | AI1: 4部B4番 | AJ1: 4部B5番 | AK1: 4部B6番 | AM1: 5部A1番 | AN1: 5部A2番 | AO1: 5部A3番 | AP1: 5部A4番 | AQ1: 5部A5番 | AR1: 5部A6番 | AT1: 5部B1番 | AU1: 5部B2番 | AV1: 5部B3番 | AW1: 5部B4番 | AX1: 5部B5番 | AY1: 5部B6番 | BA1: 6部A1番 | BB1: 6部A2番 | BC1: 6部A3番 | BD1: 6部A4番 | BE1: 6部A5番 | BF1: 6部A6番 | BH1: 6部B1番 | BI1: 6部B2番 | BJ1: 6部B3番 | BK1: 6部B4番 | BL1: 6部B5番 | BM1: 6部B6番 | BO1: 7部A1番 | BP1: 7部A2番 | BQ1: 7部A3番 | BR1: 7部A4番 | BS1: 7部A5番 | BT1: 7部A6番 | BV1: 7部B1番 | BW1: 7部B2番 | BX1: 7部B3番 | BY1: 7部B4番 | BZ1: 7部B5番 | CA1: 7部B6番 | CC1: 8部1番 | CD1: 8部2番 | CE1: 8部3番 | CF1: 8部4番 | CG1: 8部5番 | CH1: 8部6番 | CJ1: 9部1番 | CK1: 9部2番 | CL1: 9部3番 | CM1: 9部4番 | CN1: 9部5番 | CO1: 9部6番
A2: 01 | C2: 山本 始 | D2: 海家 秀夫 | E2: 宮原 茂利 | F2: 浅田 展弘 | G2: 水野 章二 | H2: 出口 和男 | I2: 中川 桂子
A3: 02 | C3: 坂田 雅昭 | D3: 重盛 等 | E3: 森脇 健 | F3: 浅田 久夫 | G3: 浅見 耕一 | H3: 松本 茂 | I3: 西嶋 洋子
A4: 03 | C4: 目片 強司 | D4: 柴田 信雄 | E4: 足立 晶彦 | F4: 金子 友義 | G4: 友久 邦彦 | H4: 酒井 博 | I4: 有馬 正代
A5: 04 | C5: 岡村 幸彦 | D5: 濱 康夫 | E5: 渡士 英治 | F5: 曽根 春男 | G5: 岡村 雅広 | H5: 藤森 正一 | I5: 田中 正栄
A6: 05 | C6: 岡本 真一 | D6: 前田 法男 | E6: 辻 浩 | F6: 池田 興亜 | G6: 栢木 一仁 | H6: 横山 精光 | I6: 鈴木 由紀子
A7: 06 | C7: 大八木 幸三 | D7: 大谷 荘二 | E7: 河原 利治 | F7: 中原 照雄 | G7: 四宮 竹男 | H7: 松島 寛 | I7: 森 幸江
A8: 07 | C8: 菊池 一道 | D8: 藤谷 利之 | E8: 山田 洋司 | F8: 弘中 公三 | G8: 金子 克幸 | H8: 長田 光司 | I8: 芦田 由美
A9: 08 | C9: 中谷 卓也 | D9: 井手 敏峯 | E9: 吉川 実 | F9: 堅田 寛治 | G9: 陰山 素寛 | H9: 山本 浩司 | I9: 山下 久美子
A10: 09 | D10: 西村 敦夫 | E10: 海老 隆男 | F10: 前田 義高 | I10: 松尾 知枝
A11: 10 | D11: 泉本 和孝 | E11: 中庄谷 修 | F11: 飛沢 辰昭 | I11: 永島 奈美代
A12: 11 | D12: 金野 宜夫 | E12: 中越 豊 | F12: 高田 明伸 | I12: 粟野 恵美子
A13: 12 | D13: 南口 健一 | E13: 松本 伸介 | F13: 浜辺 次男 | I13: 植木 有里
A14: 13 | D14: 鷹谷 信之 | E14: 岡賀 武司 | F14: 井岡 功一 | I14: 徳永 壽子
A15: 14 | D15: 前川 雅之 | I15: 伊山 清子
A16: 15 | I16: 徳 ひとみ
